
BEGIN:VCALENDAR
VERSION:2.0
CALSCALE:GREGORIAN
BEGIN:VEVENT
URL;VALUE=URI:https://www.boardoftrade.com/events/7559
DTSTART:20230327T160000Z
DTEND:20230327T180000Z
UID:7559eventcalendar.boardoftrade.com
DTSTAMP:20260419T174620Z
LOCATION:
DESCRIPTION:Schedule: \n9 - 11 a.m. \n\n Session 1: Monday\, March 27 \n Session 2: Tuesday\, March 28 \n Session 3: Wednesday\, March 29\n \nEvent Detail Page: https://www.boardoftrade.com/events/7559
X-ALT-DESC;FMTTYPE=text/html:<!doctype html><html><body><div>Schedule: <p>9 - 11 a.m. <BR><BR> Session 1: Monday\, March 27 <BR> Session 2: Tuesday\, March 28 <BR> Session 3: Wednesday\, March 29</p></div>&nbsp\;<div>Event Detail Page: https://www.boardoftrade.com/events/7559</div></body></html>

SUMMARY:Diversity and Inclusion: IDEA Fundamentals Certification
END:VEVENT
END:VCALENDAR