
BEGIN:VCALENDAR
VERSION:2.0
CALSCALE:GREGORIAN
BEGIN:VEVENT
URL;VALUE=URI:https://www.boardoftrade.com/events/7560
DTSTART:20230309T010000Z
DTEND:20230309T030000Z
UID:7560eventcalendar.boardoftrade.com
DTSTAMP:20260419T155446Z
LOCATION:Deloitte Summit 410 W. Georgia Street Vancouver
DESCRIPTION:Event Detail Page: https://www.boardoftrade.com/events/7560
X-ALT-DESC;FMTTYPE=text/html:<!doctype html><html><body><div>Event Detail Page: https://www.boardoftrade.com/events/7560</div></body></html>

SUMMARY:Lessons in Leadership with Deloitte
END:VEVENT
END:VCALENDAR