
BEGIN:VCALENDAR
VERSION:2.0
CALSCALE:GREGORIAN
BEGIN:VEVENT
URL;VALUE=URI:https://www.boardoftrade.com/events/7571
DTSTART:20230720T163000Z
DTEND:20230721T020000Z
UID:7571eventcalendar.boardoftrade.com
DTSTAMP:20260419T174518Z
LOCATION:Westwood Plateau Golf & Country Club 3251 Plateau Boulevard Coquitlam\, B.C.
DESCRIPTION:Schedule: \nRegistration and Breakfast:  9:30 a.m. PT\nShotgun Start:  11:00 a.m. PT\nDinner and Awards: 5:30 p.m. PT\n \nEvent Detail Page: https://www.boardoftrade.com/events/7571
X-ALT-DESC;FMTTYPE=text/html:<!doctype html><html><body><div>Schedule: <p>Registration and Breakfast:  9:30 a.m. PT<BR>Shotgun Start:  11:00 a.m. PT<BR>Dinner and Awards: 5:30 p.m. PT</p></div>&nbsp\;<div>Event Detail Page: https://www.boardoftrade.com/events/7571</div></body></html>

SUMMARY:Pro-Am Golf Tournament 2023
END:VEVENT
END:VCALENDAR