
BEGIN:VCALENDAR
VERSION:2.0
CALSCALE:GREGORIAN
BEGIN:VEVENT
URL;VALUE=URI:https://www.boardoftrade.com/events/7579
DTSTART:20230405T213000Z
DTEND:20230405T230000Z
UID:7579eventcalendar.boardoftrade.com
DTSTAMP:20260419T174540Z
LOCATION:TELUS Theatre at BCIT Burnaby 3700 Willingdon Ave\, Burnaby
DESCRIPTION:Event Detail Page: https://www.boardoftrade.com/events/7579
X-ALT-DESC;FMTTYPE=text/html:<!doctype html><html><body><div>Event Detail Page: https://www.boardoftrade.com/events/7579</div></body></html>

SUMMARY:Bold Networking - Presentation and  Q&A Session with Alvin Chan
END:VEVENT
END:VCALENDAR