
BEGIN:VCALENDAR
VERSION:2.0
CALSCALE:GREGORIAN
BEGIN:VEVENT
URL;VALUE=URI:https://www.boardoftrade.com/events/7589
DTSTART:20230605T173000Z
DTEND:20230605T223000Z
UID:7589eventcalendar.boardoftrade.com
DTSTAMP:20260419T174517Z
LOCATION:Mayfair Lakes Golf & Country Club 5460 Number 7 Rd Richmond
DESCRIPTION:Schedule: \nFirst Tee time: 10:30 a.m.  \n\n Subsequent foursomes will tee off in ten-minute increments. <p> </p> <strong>Notes:</strong> <ul> <li>There is a limit of 24 players per event </li> <li>Players must be members of the GVBOT or approved special guests </li> <li>GVBOT will create foursomes but you may request to play with specific people\, and we will do our best to accommodate </li> <li>Payment must be made at time of registration </li> <li>Players are asked to arrive at the course based on their assigned tee time </li> <li>All rounds include a cart that accommodates two players </li> <li>Players are responsible for their own transportation to and from the course </li> </ul> \n \nEvent Detail Page: https://www.boardoftrade.com/events/7589
X-ALT-DESC;FMTTYPE=text/html:<!doctype html><html><body><div>Schedule: <p>First Tee time: 10:30 a.m.  <BR><BR> Subsequent foursomes will tee off in ten-minute increments. <p>&nbsp\;</p> <strong>Notes:</strong> <ul> <li>There is a limit of 24 players per event </li> <li>Players must be members of the GVBOT or approved special guests </li> <li>GVBOT will create foursomes but you may request to play with specific people\, and we will do our best to accommodate </li> <li>Payment must be made at time of registration </li> <li>Players are asked to arrive at the course based on their assigned tee time </li> <li>All rounds include a cart that accommodates two players </li> <li>Players are responsible for their own transportation to and from the course </li> </ul> </p></div>&nbsp\;<div>Event Detail Page: https://www.boardoftrade.com/events/7589</div></body></html>

SUMMARY:GVBOT Golf Tour - Mayfair Lakes Golf & Country Club
END:VEVENT
END:VCALENDAR