
BEGIN:VCALENDAR
VERSION:2.0
CALSCALE:GREGORIAN
BEGIN:VEVENT
URL;VALUE=URI:https://www.boardoftrade.com/events/7598
DTSTART:20230608T000000Z
DTEND:20230608T020000Z
UID:7598eventcalendar.boardoftrade.com
DTSTAMP:20260419T174539Z
LOCATION:Ronald McDonald House 4567 Heather St Vancouver
DESCRIPTION:Schedule: \n5:00 - 7:00 p.m. \n \nEvent Detail Page: https://www.boardoftrade.com/events/7598
X-ALT-DESC;FMTTYPE=text/html:<!doctype html><html><body><div>Schedule: <p>5:00 - 7:00 p.m. </p></div>&nbsp\;<div>Event Detail Page: https://www.boardoftrade.com/events/7598</div></body></html>

SUMMARY:Ronald McDonald House B.C. & Yukon
END:VEVENT
END:VCALENDAR