
BEGIN:VCALENDAR
VERSION:2.0
CALSCALE:GREGORIAN
BEGIN:VEVENT
URL;VALUE=URI:https://www.boardoftrade.com/events/7608
DTSTART:20230601T190000Z
DTEND:20230601T210000Z
UID:7608eventcalendar.boardoftrade.com
DTSTAMP:20260422T170113Z
LOCATION:Pinnacle Hotel Harbourfront - Harbourfront Ballroom  1133 W Hastings St Vancouver
DESCRIPTION:Schedule: \nRegistration & Lunch: 12:00 - 1:00 p.m. PT\n Program: 1:00 – 2:00 p.m. PT\n \nEvent Detail Page: https://www.boardoftrade.com/events/7608
X-ALT-DESC;FMTTYPE=text/html:<!doctype html><html><body><div>Schedule: <p>Registration & Lunch: 12:00 - 1:00 p.m. PT<BR> Program: 1:00 – 2:00 p.m. PT</p></div>&nbsp\;<div>Event Detail Page: https://www.boardoftrade.com/events/7608</div></body></html>

SUMMARY:Meeting the Moment: How SFU is Making a Difference for B.C.
END:VEVENT
END:VCALENDAR