
BEGIN:VCALENDAR
VERSION:2.0
CALSCALE:GREGORIAN
BEGIN:VEVENT
URL;VALUE=URI:https://www.boardoftrade.com/events/7623
DTSTART:20230523T183000Z
DTEND:20230523T200000Z
UID:7623eventcalendar.boardoftrade.com
DTSTAMP:20260419T174538Z
LOCATION:Fairmont Hotel Vancouver - Saturna Island Room  900 W Georgia St Vancouver
DESCRIPTION:Schedule: \nRegistration & Lunch: 11:30 a.m. - 12:00 p.m. PT Program: 12:00 – 1:00 p.m. PT\n \nEvent Detail Page: https://www.boardoftrade.com/events/7623
X-ALT-DESC;FMTTYPE=text/html:<!doctype html><html><body><div>Schedule: <p>Registration & Lunch: 11:30 a.m. - 12:00 p.m. PT Program: 12:00 – 1:00 p.m. PT</p></div>&nbsp\;<div>Event Detail Page: https://www.boardoftrade.com/events/7623</div></body></html>

SUMMARY:Canada’s Opportunities in the Indo-Pacific
END:VEVENT
END:VCALENDAR