
BEGIN:VCALENDAR
VERSION:2.0
CALSCALE:GREGORIAN
BEGIN:VEVENT
URL;VALUE=URI:https://www.boardoftrade.com/events/7701
DTSTART:20240513T160000Z
DTEND:20240513T180000Z
UID:7701eventcalendar.boardoftrade.com
DTSTAMP:20260425T210229Z
LOCATION:
DESCRIPTION:Schedule: \n9 - 11 a.m. \n\n Session 1: Monday\, May 13 \n Session 2: Tuesday\, May 14 \n Session 3: Wednesday\, May 15\n \nEvent Detail Page: https://www.boardoftrade.com/events/7701
X-ALT-DESC;FMTTYPE=text/html:<!doctype html><html><body><div>Schedule: <p>9 - 11 a.m. <BR><BR> Session 1: Monday\, May 13 <BR> Session 2: Tuesday\, May 14 <BR> Session 3: Wednesday\, May 15</p></div>&nbsp\;<div>Event Detail Page: https://www.boardoftrade.com/events/7701</div></body></html>

SUMMARY:Diversity and Inclusion Training: IDEA Essentials 2.0
END:VEVENT
END:VCALENDAR