
BEGIN:VCALENDAR
VERSION:2.0
CALSCALE:GREGORIAN
BEGIN:VEVENT
URL;VALUE=URI:https://www.boardoftrade.com/events/7703
DTSTART:20231123T193000Z
DTEND:20231123T213000Z
UID:7703eventcalendar.boardoftrade.com
DTSTAMP:20260419T191550Z
LOCATION:Fairmont Waterfront Hotel Waterfront Ballroom 900 Canada Place\, Vancouver
DESCRIPTION:Schedule: \nRegistration & Lunch:  11:30 a.m. - 12:30 p.m. PT\n Program:  12:30  - 1:30 p.m. PT\n\n \nEvent Detail Page: https://www.boardoftrade.com/events/7703
X-ALT-DESC;FMTTYPE=text/html:<!doctype html><html><body><div>Schedule: <p>Registration & Lunch:  11:30 a.m. - 12:30 p.m. PT<BR> Program:  12:30  - 1:30 p.m. PT<BR></p></div>&nbsp\;<div>Event Detail Page: https://www.boardoftrade.com/events/7703</div></body></html>

SUMMARY:State of the Port: Building Canada’s long-term trade success amidst shifting global\, local dynamics
END:VEVENT
END:VCALENDAR