
BEGIN:VCALENDAR
VERSION:2.0
CALSCALE:GREGORIAN
BEGIN:VEVENT
URL;VALUE=URI:https://www.boardoftrade.com/events/7732
DTSTART:20240410T153000Z
DTEND:20240410T233000Z
UID:7732eventcalendar.boardoftrade.com
DTSTAMP:20260419T204721Z
LOCATION:Kelowna Yacht Club
DESCRIPTION:Event Detail Page: https://www.boardoftrade.com/events/7732
X-ALT-DESC;FMTTYPE=text/html:<!doctype html><html><body><div>Event Detail Page: https://www.boardoftrade.com/events/7732</div></body></html>

SUMMARY:Trade Accelerator Program - B.C. Interior Cohort
END:VEVENT
END:VCALENDAR