
BEGIN:VCALENDAR
VERSION:2.0
CALSCALE:GREGORIAN
BEGIN:VEVENT
URL;VALUE=URI:https://www.boardoftrade.com/events/7743
DTSTART:20240312T143000Z
DTEND:20240312T163000Z
UID:7743eventcalendar.boardoftrade.com
DTSTAMP:20260419T204554Z
LOCATION:Fairmont Hotel Vancouver Pacific Ballroom  900 W Georgia St\, Vancouver
DESCRIPTION:Schedule: \nRegistration & Breakfast: 7:30 a.m. - 8:00 a.m. PT\n Program: 8:00 – 9:30 a.m. PT \n \n \nEvent Detail Page: https://www.boardoftrade.com/events/7743
X-ALT-DESC;FMTTYPE=text/html:<!doctype html><html><body><div>Schedule: <p>Registration & Breakfast: 7:30 a.m. - 8:00 a.m. PT<BR> Program: 8:00 – 9:30 a.m. PT <BR> </p></div>&nbsp\;<div>Event Detail Page: https://www.boardoftrade.com/events/7743</div></body></html>

SUMMARY:Canadian CEO Insights for the Future: The Reinvention Imperative
END:VEVENT
END:VCALENDAR