
BEGIN:VCALENDAR
VERSION:2.0
CALSCALE:GREGORIAN
BEGIN:VEVENT
URL;VALUE=URI:https://www.boardoftrade.com/events/7761
DTSTART:20240419T160000Z
DTEND:20240419T170000Z
UID:7761eventcalendar.boardoftrade.com
DTSTAMP:20260419T204102Z
LOCATION:
DESCRIPTION:Schedule: \n9:00 a.m. - 12:00 p.m. \n  \n \nEvent Detail Page: https://www.boardoftrade.com/events/7761
X-ALT-DESC;FMTTYPE=text/html:<!doctype html><html><body><div>Schedule: <p>9:00 a.m. - 12:00 p.m. <BR>  </p></div>&nbsp\;<div>Event Detail Page: https://www.boardoftrade.com/events/7761</div></body></html>

SUMMARY:Indigenous Awareness
END:VEVENT
END:VCALENDAR