
BEGIN:VCALENDAR
VERSION:2.0
CALSCALE:GREGORIAN
BEGIN:VEVENT
URL;VALUE=URI:https://www.boardoftrade.com/events/7765
DTSTART:20240315T183000Z
DTEND:20240315T210000Z
UID:7765eventcalendar.boardoftrade.com
DTSTAMP:20260419T133559Z
LOCATION:Fairmont Hotel Vancouver - Pacific Ballroom  900 W Georgia St  Vancouver
DESCRIPTION:Schedule: \nRegistration & Lunch: 11:30 a.m. - 12:30 p.m. PT\n Program: 12:30 – 2:00 p.m. PT \n \n \nEvent Detail Page: https://www.boardoftrade.com/events/7765
X-ALT-DESC;FMTTYPE=text/html:<!doctype html><html><body><div>Schedule: <p>Registration & Lunch: 11:30 a.m. - 12:30 p.m. PT<BR> Program: 12:30 – 2:00 p.m. PT <BR> </p></div>&nbsp\;<div>Event Detail Page: https://www.boardoftrade.com/events/7765</div></body></html>

SUMMARY:U.S. - Canada Cross Border Collaboration
END:VEVENT
END:VCALENDAR