
BEGIN:VCALENDAR
VERSION:2.0
CALSCALE:GREGORIAN
BEGIN:VEVENT
URL;VALUE=URI:https://www.boardoftrade.com/events/7781
DTSTART:20240605T153000Z
DTEND:20240605T231500Z
UID:7781eventcalendar.boardoftrade.com
DTSTAMP:20260425T113155Z
LOCATION:Vancouver Convention Centre West Summit Level 3 1055 Canada Pl\, Vancouver
DESCRIPTION:Schedule: \nRegistration:  8:30 - 9:00 a.m.\n Program:  9:00 a.m. - 12:00 p.m.\n Lunch: 12:00 - 1:00 p.m.\n Program: 1:00 - 3:15 p.m. \n Reception: 3:15 - 4:15 p.m. \n\n \nEvent Detail Page: https://www.boardoftrade.com/events/7781
X-ALT-DESC;FMTTYPE=text/html:<!doctype html><html><body><div>Schedule: <p>Registration:  8:30 - 9:00 a.m.<BR> Program:  9:00 a.m. - 12:00 p.m.<BR> Lunch: 12:00 - 1:00 p.m.<BR> Program: 1:00 - 3:15 p.m. <BR> Reception: 3:15 - 4:15 p.m. <BR></p></div>&nbsp\;<div>Event Detail Page: https://www.boardoftrade.com/events/7781</div></body></html>

SUMMARY:2024 EDI Forum: The Business of EDI
END:VEVENT
END:VCALENDAR