
BEGIN:VCALENDAR
VERSION:2.0
CALSCALE:GREGORIAN
BEGIN:VEVENT
URL;VALUE=URI:https://www.boardoftrade.com/events/7818
DTSTART:20240626T000000Z
DTEND:20240626T020000Z
UID:7818eventcalendar.boardoftrade.com
DTSTAMP:20260419T221652Z
LOCATION:Ocean ArtworksGranville Island 1669 Johnston St | 
DESCRIPTION:Schedule: \nSocial & Concert: 5:00 - 7:00 p.m.<br>\n \nEvent Detail Page: https://www.boardoftrade.com/events/7818
X-ALT-DESC;FMTTYPE=text/html:<!doctype html><html><body><div>Schedule: <p>Social & Concert: 5:00 - 7:00 p.m.<br></p></div>&nbsp\;<div>Event Detail Page: https://www.boardoftrade.com/events/7818</div></body></html>

SUMMARY:Concert with Vancouver International Jazz Festival
END:VEVENT
END:VCALENDAR