
BEGIN:VCALENDAR
VERSION:2.0
CALSCALE:GREGORIAN
BEGIN:VEVENT
URL;VALUE=URI:https://www.boardoftrade.com/events/7822
DTSTART:20240730T000000Z
DTEND:20240730T020000Z
UID:7822eventcalendar.boardoftrade.com
DTSTAMP:20260419T222128Z
LOCATION:LaSalle College Vancouver 2665 Renfrew Street Vancouver
DESCRIPTION:Schedule: \nRegistration & Reception: 5:00 – 5:30 p.m. \n Workshop: 5:30 - 7:00 p.m. \n \nEvent Detail Page: https://www.boardoftrade.com/events/7822
X-ALT-DESC;FMTTYPE=text/html:<!doctype html><html><body><div>Schedule: <p>Registration & Reception: 5:00 – 5:30 p.m. <BR> Workshop: 5:30 - 7:00 p.m. </p></div>&nbsp\;<div>Event Detail Page: https://www.boardoftrade.com/events/7822</div></body></html>

SUMMARY:Know Your Ikigai. Make Your Next Career Move.
END:VEVENT
END:VCALENDAR