
BEGIN:VCALENDAR
VERSION:2.0
CALSCALE:GREGORIAN
BEGIN:VEVENT
URL;VALUE=URI:https://www.boardoftrade.com/events/7851
DTSTART:20241002T183000Z
DTEND:20241002T210000Z
UID:7851eventcalendar.boardoftrade.com
DTSTAMP:20260419T224017Z
LOCATION:Fairmont Hotel Vancouver  Pacific Ballroom  900 W Georgia St.\, Vancouver
DESCRIPTION:Schedule: \nRegistration & Lunch: 11:30 a.m. - 12:00 p.m. \n Program: 12:00 – 2:00 p.m.  \n \n\n \nEvent Detail Page: https://www.boardoftrade.com/events/7851
X-ALT-DESC;FMTTYPE=text/html:<!doctype html><html><body><div>Schedule: <p>Registration & Lunch: 11:30 a.m. - 12:00 p.m. <BR> Program: 12:00 – 2:00 p.m.  <BR> <BR></p></div>&nbsp\;<div>Event Detail Page: https://www.boardoftrade.com/events/7851</div></body></html>

SUMMARY:2024 British Columbia Votes
END:VEVENT
END:VCALENDAR