
BEGIN:VCALENDAR
VERSION:2.0
CALSCALE:GREGORIAN
BEGIN:VEVENT
URL;VALUE=URI:https://www.boardoftrade.com/events/7892
DTSTART:20241129T010000Z
DTEND:20241129T050000Z
UID:7892eventcalendar.boardoftrade.com
DTSTAMP:20260420T001635Z
LOCATION:Ryan ULC  320 Granville StreetHarbour Lounge Suite 2800Vancouver
DESCRIPTION:Schedule: \nReception: 5:00 - 9:00 p.m.<br>\n \nEvent Detail Page: https://www.boardoftrade.com/events/7892
X-ALT-DESC;FMTTYPE=text/html:<!doctype html><html><body><div>Schedule: <p>Reception: 5:00 - 9:00 p.m.<br></p></div>&nbsp\;<div>Event Detail Page: https://www.boardoftrade.com/events/7892</div></body></html>

SUMMARY:Members' Social at Ryan. A Night of Networking at Harbour Lounge!
END:VEVENT
END:VCALENDAR