
BEGIN:VCALENDAR
VERSION:2.0
CALSCALE:GREGORIAN
BEGIN:VEVENT
URL;VALUE=URI:https://www.boardoftrade.com/events/7904
DTSTART:20250214T010000Z
DTEND:20250214T030000Z
UID:7904eventcalendar.boardoftrade.com
DTSTAMP:20260420T001555Z
LOCATION:GRETA Bar 50 W Cordova St Vancouver
DESCRIPTION:Schedule: \nRegistration: 5:00 p.m.\n Networking Social: 5:00 - 7:00 p.m.\n \nEvent Detail Page: https://www.boardoftrade.com/events/7904
X-ALT-DESC;FMTTYPE=text/html:<!doctype html><html><body><div>Schedule: <p>Registration: 5:00 p.m.<BR> Networking Social: 5:00 - 7:00 p.m.</p></div>&nbsp\;<div>Event Detail Page: https://www.boardoftrade.com/events/7904</div></body></html>

SUMMARY:Members' Experience at Greta Bar
END:VEVENT
END:VCALENDAR