
BEGIN:VCALENDAR
VERSION:2.0
CALSCALE:GREGORIAN
BEGIN:VEVENT
URL;VALUE=URI:https://www.boardoftrade.com/events/7912
DTSTART:20250507T233000Z
DTEND:20250508T013000Z
UID:7912eventcalendar.boardoftrade.com
DTSTAMP:20260420T082817Z
LOCATION:Pinnacle Hotel Harbourfront 360 Vistas Room 1133 W Hastings St
DESCRIPTION:Schedule: \nRegistration and Reception: 4:30 - 5:00 p.m. <br> Welcome and Remarks: 5:00 - 5:30 p.m. <br> Non-Profit Networking: 5:30 - 6:30 p.m.\n \nEvent Detail Page: https://www.boardoftrade.com/events/7912
X-ALT-DESC;FMTTYPE=text/html:<!doctype html><html><body><div>Schedule: <p>Registration and Reception: 4:30 - 5:00 p.m. <br> Welcome and Remarks: 5:00 - 5:30 p.m. <br> Non-Profit Networking: 5:30 - 6:30 p.m.</p></div>&nbsp\;<div>Event Detail Page: https://www.boardoftrade.com/events/7912</div></body></html>

SUMMARY:Get-on-Board: A Night of Non-Profit Engagement
END:VEVENT
END:VCALENDAR