
BEGIN:VCALENDAR
VERSION:2.0
CALSCALE:GREGORIAN
BEGIN:VEVENT
URL;VALUE=URI:https://www.boardoftrade.com/events/7946
DTSTART:20250404T143000Z
DTEND:20250404T173000Z
UID:7946eventcalendar.boardoftrade.com
DTSTAMP:20260419T130725Z
LOCATION:Pan Pacific Vancouver Crystal Pavilion Ballroom  999 Canada Place  Vancouver
DESCRIPTION:Schedule: \nRegistration and Breakfast:  7:30  - 8:00 a.m.\n Program:  8:00 a.m. - 10:30 a.m. \n\n \nEvent Detail Page: https://www.boardoftrade.com/events/7946
X-ALT-DESC;FMTTYPE=text/html:<!doctype html><html><body><div>Schedule: <p>Registration and Breakfast:  7:30  - 8:00 a.m.<BR> Program:  8:00 a.m. - 10:30 a.m. <BR></p></div>&nbsp\;<div>Event Detail Page: https://www.boardoftrade.com/events/7946</div></body></html>

SUMMARY:Building B.C.:  Major Projects Driving Economic Growth Presented by KPMG
END:VEVENT
END:VCALENDAR