
BEGIN:VCALENDAR
VERSION:2.0
CALSCALE:GREGORIAN
BEGIN:VEVENT
URL;VALUE=URI:https://www.boardoftrade.com/events/7991
DTSTART:20250717T153000Z
DTEND:20250717T190000Z
UID:7991eventcalendar.boardoftrade.com
DTSTAMP:20260422T214103Z
LOCATION:Courtyard Prince George Spruce  900 Brunswick St Prince George\, B.C.
DESCRIPTION:Schedule: \nBreakfast & Registration: 8:30  - 9:00 a.m. \nProgram: 9:00  - 11:30 a.m.\nQ&A & Networking: 11:30 a.m. - 12:00 p.m.\n\n \nEvent Detail Page: https://www.boardoftrade.com/events/7991
X-ALT-DESC;FMTTYPE=text/html:<!doctype html><html><body><div>Schedule: <p><P>Breakfast & Registration: 8:30  - 9:00 a.m. <BR>Program: 9:00  - 11:30 a.m.<BR>Q&A & Networking: 11:30 a.m. - 12:00 p.m.</P></p></div>&nbsp\;<div>Event Detail Page: https://www.boardoftrade.com/events/7991</div></body></html>

SUMMARY:Understanding CUSMA Compliance - Prince George
END:VEVENT
END:VCALENDAR