
BEGIN:VCALENDAR
VERSION:2.0
CALSCALE:GREGORIAN
BEGIN:VEVENT
URL;VALUE=URI:https://www.boardoftrade.com/events/7993
DTSTART:20250923T153000Z
DTEND:20250923T190000Z
UID:7993eventcalendar.boardoftrade.com
DTSTAMP:20260422T215500Z
LOCATION:Pan Pacific Vancouver Oceanview Suite 5-6  999 Canada Place\, Vancouver
DESCRIPTION:Schedule: \nBreakfast & Registration: 8:30  - 9:00 a.m. \nProgram: 9:00  - 11:30 a.m.\nNetworking: 11:30 am - 12:00 p.m.\n\n \nEvent Detail Page: https://www.boardoftrade.com/events/7993
X-ALT-DESC;FMTTYPE=text/html:<!doctype html><html><body><div>Schedule: <p><P>Breakfast & Registration: 8:30  - 9:00 a.m. <BR>Program: 9:00  - 11:30 a.m.<BR>Networking: 11:30 am - 12:00 p.m.</P></p></div>&nbsp\;<div>Event Detail Page: https://www.boardoftrade.com/events/7993</div></body></html>

SUMMARY:Understanding CUSMA Compliance - Vancouver
END:VEVENT
END:VCALENDAR