
BEGIN:VCALENDAR
VERSION:2.0
CALSCALE:GREGORIAN
BEGIN:VEVENT
URL;VALUE=URI:https://www.boardoftrade.com/events/8026
DTSTART:20251023T000000Z
DTEND:20251023T020000Z
UID:8026eventcalendar.boardoftrade.com
DTSTAMP:20260420T083906Z
LOCATION:FlyOver Canada  201- 999 Canada Place Vancouver
DESCRIPTION:Schedule: \nReception/Social: 5:00 - 6:15 p.m.\n Flyover Canada Experience: 6:15 - 7:00 p.m.\n \nEvent Detail Page: https://www.boardoftrade.com/events/8026
X-ALT-DESC;FMTTYPE=text/html:<!doctype html><html><body><div>Schedule: <p>Reception/Social: 5:00 - 6:15 p.m.<BR> Flyover Canada Experience: 6:15 - 7:00 p.m.</p></div>&nbsp\;<div>Event Detail Page: https://www.boardoftrade.com/events/8026</div></body></html>

SUMMARY:Members' Experience with Flyover
END:VEVENT
END:VCALENDAR