
BEGIN:VCALENDAR
VERSION:2.0
CALSCALE:GREGORIAN
BEGIN:VEVENT
URL;VALUE=URI:https://www.boardoftrade.com/events/8132
DTSTART:20260506T170000Z
DTEND:20260506T183000Z
UID:8132eventcalendar.boardoftrade.com
DTSTAMP:20260423T103756Z
LOCATION:Virtual Event Zoom link will be provided
DESCRIPTION:Schedule: \nProgram: 10:00 - 11:30 a.m.<br>\n \nEvent Detail Page: https://www.boardoftrade.com/events/8132
X-ALT-DESC;FMTTYPE=text/html:<!doctype html><html><body><div>Schedule: <p>Program: 10:00 - 11:30 a.m.<br></p></div>&nbsp\;<div>Event Detail Page: https://www.boardoftrade.com/events/8132</div></body></html>

SUMMARY:Canada Connected: Road to Web Summit 2026
END:VEVENT
END:VCALENDAR