
BEGIN:VCALENDAR
VERSION:2.0
CALSCALE:GREGORIAN
BEGIN:VEVENT
URL;VALUE=URI:https://www.boardoftrade.com/events/7635
DTSTART:20230915T143000Z
DTEND:20230915T190000Z
UID:7635eventcalendar.boardoftrade.com
DTSTAMP:20260419T192850Z
LOCATION:Fairmont Hotel Vancouver - BC Ballroom  900 W Georgia St  Vancouver\, BC
DESCRIPTION:Schedule: \nRegistration and Breakfast:  7:30 - 8:00 a.m. PT\n Program:  8:00 a.m. - 12:00 p.m. PT\n <br><a href="https://www.boardoftrade.com/files/events/digital-agenda.pdf" target="_blank">Full Agenda (PDF)</a>\n \nEvent Detail Page: https://www.boardoftrade.com/events/7635
X-ALT-DESC;FMTTYPE=text/html:<!doctype html><html><body><div>Schedule: <p>Registration and Breakfast:  7:30 - 8:00 a.m. PT<BR> Program:  8:00 a.m. - 12:00 p.m. PT<BR> <br><a href="https://www.boardoftrade.com/files/events/digital-agenda.pdf" target="_blank">Full Agenda (PDF)</a></p></div>&nbsp\;<div>Event Detail Page: https://www.boardoftrade.com/events/7635</div></body></html>

SUMMARY:Indigenous Opportunities Forum 2023 Presented by CN
END:VEVENT
END:VCALENDAR