
BEGIN:VCALENDAR
VERSION:2.0
CALSCALE:GREGORIAN
BEGIN:VEVENT
URL;VALUE=URI:https://www.boardoftrade.com/events/7724
DTSTART:20240314T183000Z
DTEND:20240315T000000Z
UID:7724eventcalendar.boardoftrade.com
DTSTAMP:20260421T084343Z
LOCATION:Fairmont Hotel Vancouver Pacific Ballroom  900 W Georgia St\, Vancouver
DESCRIPTION:Schedule: \nRegistration & Lunch: 11:30 a.m. - 12:15 p.m. PT\n Program: 12:15 – 4:00 p.m. PT \n Reception: 4:00 – 5:00 p.m. PT \n <a href="https://www.boardoftrade.com/files/events/digital-agenda.pdf" target="_blank">Full Agenda(PDF)</a>\n \nEvent Detail Page: https://www.boardoftrade.com/events/7724
X-ALT-DESC;FMTTYPE=text/html:<!doctype html><html><body><div>Schedule: <p>Registration & Lunch: 11:30 a.m. - 12:15 p.m. PT<BR> Program: 12:15 – 4:00 p.m. PT <BR> Reception: 4:00 – 5:00 p.m. PT <BR> <a href="https://www.boardoftrade.com/files/events/digital-agenda.pdf" target="_blank">Full Agenda(PDF)</a></p></div>&nbsp\;<div>Event Detail Page: https://www.boardoftrade.com/events/7724</div></body></html>

SUMMARY:Sales Performance Summit
END:VEVENT
END:VCALENDAR