
BEGIN:VCALENDAR
VERSION:2.0
CALSCALE:GREGORIAN
BEGIN:VEVENT
URL;VALUE=URI:https://www.boardoftrade.com/events/8032
DTSTART:20251021T230000Z
DTEND:20251022T010000Z
UID:8032eventcalendar.boardoftrade.com
DTSTAMP:20260420T102307Z
LOCATION:Virtual Event
DESCRIPTION:Schedule: \nOnline Program: 4:00 – 6:00 p.m.\n \n  <em>A Zoom link to participate in the event will be sent by 2:00 p.m.\, Tuesday\, October 21.</em> \n\n \nEvent Detail Page: https://www.boardoftrade.com/events/8032
X-ALT-DESC;FMTTYPE=text/html:<!doctype html><html><body><div>Schedule: <p>Online Program: 4:00 – 6:00 p.m.<BR> <BR>  <em>A Zoom link to participate in the event will be sent by 2:00 p.m.\, Tuesday\, October 21.</em> <BR></p></div>&nbsp\;<div>Event Detail Page: https://www.boardoftrade.com/events/8032</div></body></html>

SUMMARY:Bringing Your A-Game to Your Team
END:VEVENT
END:VCALENDAR